BEGIN:VCALENDAR
VERSION:2.0
PRODID:-//Bilbao Euskaraz - ECPv4.7.1//NONSGML v1.0//EN
CALSCALE:GREGORIAN
METHOD:PUBLISH
X-WR-CALNAME:Bilbao Euskaraz
X-ORIGINAL-URL:https://bilbaoeuskaraz.bilbao.eus
X-WR-CALDESC:Events for Bilbao Euskaraz
BEGIN:VEVENT
DTSTART;TZID=UTC+0:20240922T183000
DTEND;TZID=UTC+0:20240922T183000
DTSTAMP:20260423T024906
CREATED:20240627T111612Z
LAST-MODIFIED:20240627T112524Z
UID:53908-1727029800-1727029800@bilbaoeuskaraz.bilbao.eus
SUMMARY:Kakorratza-lana
DESCRIPTION:(1. saioa)\nPoltsoa egingo dugu kantoitik kantoira teknikaz 3 saiotan\nNigatik (Arantza) \n
URL:https://bilbaoeuskaraz.bilbao.eus/ekitaldia/kakorratza-lana-7/
LOCATION:Santutxu AEK\, Arbidea 21\, Bilbao\, Bizkaia\, Spain
CATEGORIES:Darabilbo,Ikastaroak
ATTACH;FMTTYPE=image/jpeg:https://bilbaoeuskaraz.bilbao.eus/wp-content/uploads/2024/01/wool-742770_1280.jpg
END:VEVENT
END:VCALENDAR