BEGIN:VCALENDAR
VERSION:2.0
PRODID:-//Bilbao Euskaraz - ECPv4.7.1//NONSGML v1.0//EN
CALSCALE:GREGORIAN
METHOD:PUBLISH
X-WR-CALNAME:Bilbao Euskaraz
X-ORIGINAL-URL:https://bilbaoeuskaraz.bilbao.eus
X-WR-CALDESC:Events for Bilbao Euskaraz
BEGIN:VEVENT
DTSTART;TZID=UTC+0:20240926T193000
DTEND;TZID=UTC+0:20240926T193000
DTSTAMP:20260424T083619
CREATED:20240903T083714Z
LAST-MODIFIED:20240903T083915Z
UID:54121-1727379000-1727379000@bilbaoeuskaraz.bilbao.eus
SUMMARY:EUSKARA BIHAR (III)
DESCRIPTION:Hitzaldia. \nGartzen Garaio (Faktoria) eta Jon Sarasua. Berbaldia. Jardunaldien hirugarren saioa \nLORALDIA \n  \n
URL:https://bilbaoeuskaraz.bilbao.eus/ekitaldia/euskara-bihar-iii/
LOCATION:Bira Kulturgunea\, Erronda Kalea\, 2\, Bilbo
CATEGORIES:Bira,Euskara,Literatura,loraldia
ATTACH;FMTTYPE=image/jpeg:https://bilbaoeuskaraz.bilbao.eus/wp-content/uploads/2024/09/EUSKARA-BIHAR.jpg
END:VEVENT
END:VCALENDAR