BEGIN:VCALENDAR
VERSION:2.0
PRODID:-//Bilbao Euskaraz - ECPv4.7.1//NONSGML v1.0//EN
CALSCALE:GREGORIAN
METHOD:PUBLISH
X-WR-CALNAME:Bilbao Euskaraz
X-ORIGINAL-URL:https://bilbaoeuskaraz.bilbao.eus
X-WR-CALDESC:Events for Bilbao Euskaraz
BEGIN:VEVENT
DTSTART;TZID=UTC+0:20240927T183000
DTEND;TZID=UTC+0:20240927T183000
DTSTAMP:20260424T100001
CREATED:20240627T114021Z
LAST-MODIFIED:20240627T114021Z
UID:53915-1727461800-1727461800@bilbaoeuskaraz.bilbao.eus
SUMMARY:Beerbetan zazpikaletan
DESCRIPTION:2 orduko dastaketa-ibilaldia zazpikaletan zehar\nMario birretti \n18 urtetik gora. \n
URL:https://bilbaoeuskaraz.bilbao.eus/ekitaldia/beerbetan-zazpikaletan/
LOCATION:Unamuno plaza\, Bilbao
CATEGORIES:Comida,Darabilbo
ATTACH;FMTTYPE=image/jpeg:https://bilbaoeuskaraz.bilbao.eus/wp-content/uploads/2024/06/PortaldeZamudio3.jpg
END:VEVENT
END:VCALENDAR