BEGIN:VCALENDAR
VERSION:2.0
PRODID:-//Bilbao Euskaraz - ECPv4.7.1//NONSGML v1.0//EN
CALSCALE:GREGORIAN
METHOD:PUBLISH
X-WR-CALNAME:Bilbao Euskaraz
X-ORIGINAL-URL:https://bilbaoeuskaraz.bilbao.eus
X-WR-CALDESC:Events for Bilbao Euskaraz
BEGIN:VEVENT
DTSTART;TZID=UTC+0:20251028T190000
DTEND;TZID=UTC+0:20251028T193000
DTSTAMP:20260421T171536
CREATED:20251009T094625Z
LAST-MODIFIED:20251009T094625Z
UID:56635-1761678000-1761679800@bilbaoeuskaraz.bilbao.eus
SUMMARY:Señora Bertso Eskola
DESCRIPTION:Sarrera librea \n  \n
URL:https://bilbaoeuskaraz.bilbao.eus/ekitaldia/senora-bertso-eskola-18/
CATEGORIES:Bertsoak,Bira
END:VEVENT
END:VCALENDAR