BEGIN:VCALENDAR
VERSION:2.0
PRODID:-//Bilbao Euskaraz - ECPv4.7.1//NONSGML v1.0//EN
CALSCALE:GREGORIAN
METHOD:PUBLISH
X-WR-CALNAME:Bilbao Euskaraz
X-ORIGINAL-URL:https://bilbaoeuskaraz.bilbao.eus
X-WR-CALDESC:Events for Bilbao Euskaraz
BEGIN:VEVENT
DTSTART;TZID=UTC+0:20251030T193000
DTEND;TZID=UTC+0:20251030T203000
DTSTAMP:20260421T203240
CREATED:20251009T095053Z
LAST-MODIFIED:20251009T095215Z
UID:56644-1761852600-1761856200@bilbaoeuskaraz.bilbao.eus
SUMMARY:bostOK!
DESCRIPTION:Umorezko bakarrizketak: Asier Galarza + Manex Astigarraga + Maria Blanco + Esti Curiel + Ander Malbadi \nLORALDIA GAZTEA Bidea Bidean Bide \n  \n
URL:https://bilbaoeuskaraz.bilbao.eus/ekitaldia/bostok/
CATEGORIES:Antzerkia,Bira
END:VEVENT
END:VCALENDAR