BEGIN:VCALENDAR
VERSION:2.0
PRODID:-//Bilbao Euskaraz - ECPv4.7.1//NONSGML v1.0//EN
CALSCALE:GREGORIAN
METHOD:PUBLISH
X-WR-CALNAME:Bilbao Euskaraz
X-ORIGINAL-URL:https://bilbaoeuskaraz.bilbao.eus
X-WR-CALDESC:Events for Bilbao Euskaraz
BEGIN:VEVENT
DTSTART;TZID=UTC+0:20251106T190000
DTEND;TZID=UTC+0:20251106T203000
DTSTAMP:20260422T095405
CREATED:20251029T090559Z
LAST-MODIFIED:20251029T090559Z
UID:56693-1762455600-1762461000@bilbaoeuskaraz.bilbao.eus
SUMMARY:Bilboko Berbalaguneko hasiera ekitaldia
DESCRIPTION:Mintzodromoa\, mokadutxoa\, sariak … \nDone Petri Plazan (Aterpean) \nDeustu \n
URL:https://bilbaoeuskaraz.bilbao.eus/ekitaldia/bilboko-berbalaguneko-hasiera-ekitaldia-3/
CATEGORIES:Darabilbo
ATTACH;FMTTYPE=image/png:https://bilbaoeuskaraz.bilbao.eus/wp-content/uploads/2025/10/Berbalaguna_6NOV.png
END:VEVENT
END:VCALENDAR