BEGIN:VCALENDAR
VERSION:2.0
PRODID:-//Bilbao Euskaraz - ECPv4.7.1//NONSGML v1.0//EN
CALSCALE:GREGORIAN
METHOD:PUBLISH
X-WR-CALNAME:Bilbao Euskaraz
X-ORIGINAL-URL:https://bilbaoeuskaraz.bilbao.eus
X-WR-CALDESC:Events for Bilbao Euskaraz
BEGIN:VEVENT
DTSTART;TZID=UTC+0:20251112T100000
DTEND;TZID=UTC+0:20251112T230000
DTSTAMP:20260422T130736
CREATED:20251029T091101Z
LAST-MODIFIED:20251029T091523Z
UID:56700-1762941600-1762988400@bilbaoeuskaraz.bilbao.eus
SUMMARY:Azenario\, koko\, jengibre eta txokolatezko bolatxoak tailerra
DESCRIPTION:Txaramela taldearekin \nKalderapeko kulturgunean (Txakur kalea 1\, Zazpikaleak) \n
URL:https://bilbaoeuskaraz.bilbao.eus/ekitaldia/azenario-koko-jengibre-eta-txokolatezko-bolatxoak-tailerra/
CATEGORIES:Darabilbo
ATTACH;FMTTYPE=image/png:https://bilbaoeuskaraz.bilbao.eus/wp-content/uploads/2025/10/Tailerra_12NOV-1.png
END:VEVENT
END:VCALENDAR