BEGIN:VCALENDAR
VERSION:2.0
PRODID:-//Bilbao Euskaraz - ECPv4.7.1//NONSGML v1.0//EN
CALSCALE:GREGORIAN
METHOD:PUBLISH
X-WR-CALNAME:Bilbao Euskaraz
X-ORIGINAL-URL:https://bilbaoeuskaraz.bilbao.eus
X-WR-CALDESC:Events for Bilbao Euskaraz
BEGIN:VEVENT
DTSTART;TZID=UTC+0:20240203T093000
DTEND;TZID=UTC+0:20240203T190000
DTSTAMP:20260424T212635
CREATED:20231228T111950Z
LAST-MODIFIED:20231228T111950Z
UID:52556-1706952600-1706986800@bilbaoeuskaraz.bilbao.eus
SUMMARY:BERBALAGUNEN IRTEERA
DESCRIPTION:Arrikrutzeko kobara bisita gidatua + bazkaria + bazkaloste musikatua. \n  \n  \n
URL:https://bilbaoeuskaraz.bilbao.eus/ekitaldia/berbalagunen-irteera/
CATEGORIES:Euskara,janaria
ATTACH;FMTTYPE=image/jpeg:https://bilbaoeuskaraz.bilbao.eus/wp-content/uploads/2023/12/Berbalagunen-irteera_2024-02-03.jpg
END:VEVENT
END:VCALENDAR