BEGIN:VCALENDAR
VERSION:2.0
PRODID:-//Bilbao Euskaraz - ECPv4.7.1//NONSGML v1.0//EN
CALSCALE:GREGORIAN
METHOD:PUBLISH
X-WR-CALNAME:Bilbao Euskaraz
X-ORIGINAL-URL:https://bilbaoeuskaraz.bilbao.eus
X-WR-CALDESC:Events for Bilbao Euskaraz
BEGIN:VEVENT
DTSTART;TZID=UTC+0:20230330T193000
DTEND;TZID=UTC+0:20230330T203000
DTSTAMP:20260421T172051
CREATED:20230222T100727Z
LAST-MODIFIED:20230222T101017Z
UID:46786-1680204600-1680208200@bilbaoeuskaraz.bilbao.eus
SUMMARY:BERTSOERRONDA FINALA
DESCRIPTION:Erronda kaleko bertso-jaialdiaren finala. \nAntolatzaileak: Adaxka\, Errondabide\, Zirika\, 7Katu gaztetxea\, La Villa eta BIRA \n  \n
URL:https://bilbaoeuskaraz.bilbao.eus/ekitaldia/bertsoerronda-finala/
LOCATION:7 Katu Gaztetxea\, Erronda kalea\, 29
CATEGORIES:Bertsoak,Bira
END:VEVENT
END:VCALENDAR