BEGIN:VCALENDAR
VERSION:2.0
PRODID:-//Bilbao Euskaraz - ECPv4.7.1//NONSGML v1.0//EN
CALSCALE:GREGORIAN
METHOD:PUBLISH
X-WR-CALNAME:Bilbao Euskaraz
X-ORIGINAL-URL:https://bilbaoeuskaraz.bilbao.eus
X-WR-CALDESC:Events for Bilbao Euskaraz
BEGIN:VEVENT
DTSTART;TZID=UTC+0:20230217T180000
DTEND;TZID=UTC+0:20230217T200000
DTSTAMP:20260425T210715
CREATED:20230131T105252Z
LAST-MODIFIED:20230131T105252Z
UID:43534-1676656800-1676664000@bilbaoeuskaraz.bilbao.eus
SUMMARY:Buruarinak
DESCRIPTION:Familientzako tailerra. Nagusiak eta haurrak batera. \n
URL:https://bilbaoeuskaraz.bilbao.eus/ekitaldia/buruarinak-2/
LOCATION:Mirigorri Kultur Elkartea\, Gernika Lorategia kalea\, 27
CATEGORIES:Darabilbo
END:VEVENT
END:VCALENDAR