BEGIN:VCALENDAR
VERSION:2.0
PRODID:-//Bilbao Euskaraz - ECPv4.7.1//NONSGML v1.0//EN
CALSCALE:GREGORIAN
METHOD:PUBLISH
X-WR-CALNAME:Bilbao Euskaraz
X-ORIGINAL-URL:https://bilbaoeuskaraz.bilbao.eus
X-WR-CALDESC:Events for Bilbao Euskaraz
BEGIN:VEVENT
DTSTART;TZID=UTC+0:20230208T190000
DTEND;TZID=UTC+0:20230208T200000
DTSTAMP:20260425T023811
CREATED:20230131T134800Z
LAST-MODIFIED:20230131T134800Z
UID:43553-1675882800-1675886400@bilbaoeuskaraz.bilbao.eus
SUMMARY:Hitzaldia: ERREALITATEAREN AGERTOKIAN
DESCRIPTION:Hitzaldi espekulatiboa. Hizlariak: \nUla Iruretagoiena (EHUko irakasle eta ikerlaria) \nBeñat Saratxaga (Behark estudioko arkitektoa) \n2021ean\, hamar urtez iraun duen konfinamendu zorrotz bat ezarri zen. Hamar urtez egon gara etxetik atera ezinda. Gaur da berriro kalera ateratzeko eguna. Nola aldatu da gure hiria? Nola aldatuko da gure bizimodua? Gure eguneroko errealitatea baldintzatzen duen hiriaz hausnartzeko aukera bat. \n
URL:https://bilbaoeuskaraz.bilbao.eus/ekitaldia/hitzaldia-errealitatearen-agertokian/
LOCATION:Bira Kulturgunea\, Erronda Kalea\, 2\, Bilbo
CATEGORIES:Bira
END:VEVENT
END:VCALENDAR