BEGIN:VCALENDAR
VERSION:2.0
PRODID:-//Bilbao Euskaraz - ECPv4.7.1//NONSGML v1.0//EN
CALSCALE:GREGORIAN
METHOD:PUBLISH
X-WR-CALNAME:Bilbao Euskaraz
X-ORIGINAL-URL:https://bilbaoeuskaraz.bilbao.eus
X-WR-CALDESC:Events for Bilbao Euskaraz
BEGIN:VEVENT
DTSTART;TZID=UTC+0:20260418T100000
DTEND;TZID=UTC+0:20260418T130000
DTSTAMP:20260421T102611
CREATED:20260413T115620Z
LAST-MODIFIED:20260413T115620Z
UID:57144-1776506400-1776517200@bilbaoeuskaraz.bilbao.eus
SUMMARY:Iturritxualde (avril) mendian
DESCRIPTION:ORIENTAZIO PROBA\nKirola eta natura\n4-5 km-ko ibilbidea (3 ordu) \nEL LEON JATETXEA\nMonte avril bidea 55\nOtxarkoaga-txurdinaga \n
URL:https://bilbaoeuskaraz.bilbao.eus/ekitaldia/iturritxualde-avril-mendian/
LOCATION:El Leon jatetxea\, Monte avril bidea 55\, Bilbao\, Bizkaia\, Spain
CATEGORIES:Darabilbo
END:VEVENT
END:VCALENDAR