BEGIN:VCALENDAR
VERSION:2.0
PRODID:-//Bilbao Euskaraz - ECPv4.7.1//NONSGML v1.0//EN
CALSCALE:GREGORIAN
METHOD:PUBLISH
X-WR-CALNAME:Bilbao Euskaraz
X-ORIGINAL-URL:https://bilbaoeuskaraz.bilbao.eus
X-WR-CALDESC:Events for Bilbao Euskaraz
BEGIN:VEVENT
DTSTART;TZID=UTC+0:20230215T200000
DTEND;TZID=UTC+0:20230215T213000
DTSTAMP:20260425T173352
CREATED:20230131T135745Z
LAST-MODIFIED:20230131T135818Z
UID:43566-1676491200-1676496600@bilbaoeuskaraz.bilbao.eus
SUMMARY:JOSEBA IRAZOKI & PETTI\, GITARRAK ZORROZTUTA
DESCRIPTION:Kontzertua. Abenduan kaleratu zuten biek diskoa Bonberenea Ekintzak-en eskutik. Rock and rollaren ardatzaren bueltan dabilen lana\, Joseba Irazoki eta Lagunaken kasuan psikodelia ukitu batzuk dituena eta Pettik aldiz\, kutsu rockeroago bat eman diona. \n
URL:https://bilbaoeuskaraz.bilbao.eus/ekitaldia/joseba-irazoki-petti-gitarrak-zorroztuta/
LOCATION:Bira Kulturgunea\, Erronda Kalea\, 2\, Bilbo
CATEGORIES:Bira
END:VEVENT
END:VCALENDAR