BEGIN:VCALENDAR
VERSION:2.0
PRODID:-//Bilbao Euskaraz - ECPv4.7.1//NONSGML v1.0//EN
CALSCALE:GREGORIAN
METHOD:PUBLISH
X-WR-CALNAME:Bilbao Euskaraz
X-ORIGINAL-URL:https://bilbaoeuskaraz.bilbao.eus
X-WR-CALDESC:Events for Bilbao Euskaraz
BEGIN:VEVENT
DTSTART;TZID=UTC+0:20230217T183000
DTEND;TZID=UTC+0:20230217T200000
DTSTAMP:20260425T230440
CREATED:20230131T105107Z
LAST-MODIFIED:20230131T105107Z
UID:43532-1676658600-1676664000@bilbaoeuskaraz.bilbao.eus
SUMMARY:Kakorratza-lana
DESCRIPTION:Txalekoa (3. saioa) \n
URL:https://bilbaoeuskaraz.bilbao.eus/ekitaldia/kakorratza-lana-3/
LOCATION:Uribarriko Udaltegia\, Iturriondo plaza 3 (Zurbaranbarri)\, Bilbo
CATEGORIES:Darabilbo
END:VEVENT
END:VCALENDAR