BEGIN:VCALENDAR
VERSION:2.0
PRODID:-//Bilbao Euskaraz - ECPv4.7.1//NONSGML v1.0//EN
CALSCALE:GREGORIAN
METHOD:PUBLISH
X-WR-CALNAME:Bilbao Euskaraz
X-ORIGINAL-URL:https://bilbaoeuskaraz.bilbao.eus
X-WR-CALDESC:Events for Bilbao Euskaraz
BEGIN:VEVENT
DTSTART;TZID=UTC+0:20190612T190000
DTEND;TZID=UTC+0:20190612T210000
DTSTAMP:20260421T172340
CREATED:20190606T120849Z
LAST-MODIFIED:20190606T120849Z
UID:1456-1560366000-1560373200@bilbaoeuskaraz.bilbao.eus
SUMMARY:Sagardo-bertso-jaia
DESCRIPTION:Dastaketa + bertso-saioa (Kopuru mugatua) \nIzena emateko: http://darabilbo.eus \n
URL:https://bilbaoeuskaraz.bilbao.eus/ekitaldia/sagardo-bertso-jaia/
LOCATION:LABORE Bilbo\, Haro Plaza\, 3\, Bilbo
CATEGORIES:Bertsoak,Darabilbo
END:VEVENT
END:VCALENDAR