BEGIN:VCALENDAR
VERSION:2.0
PRODID:-//Bilbao Euskaraz - ECPv4.7.1//NONSGML v1.0//EN
CALSCALE:GREGORIAN
METHOD:PUBLISH
X-WR-CALNAME:Bilbao Euskaraz
X-ORIGINAL-URL:https://bilbaoeuskaraz.bilbao.eus
X-WR-CALDESC:Events for Bilbao Euskaraz
BEGIN:VEVENT
DTSTART;TZID=UTC+0:20230214T193000
DTEND;TZID=UTC+0:20230214T193000
DTSTAMP:20260425T160015
CREATED:20230131T135531Z
LAST-MODIFIED:20230131T135531Z
UID:43564-1676403000-1676403000@bilbaoeuskaraz.bilbao.eus
SUMMARY:Solasaldia: ORAINA KONTAKIZUN (I)
DESCRIPTION:“Kontakizuna eta hitza”: Lorea Agirre eta Harkaitz Cano \nBonoa 25€ (*plazak agortuta dagoeneko) \nAntolatzaileak: Zenbat Gara elkartea eta BIRA \n
URL:https://bilbaoeuskaraz.bilbao.eus/ekitaldia/solasaldia-oraina-kontakizun-i/
LOCATION:Bira Kulturgunea\, Erronda Kalea\, 2\, Bilbo
CATEGORIES:Bira
END:VEVENT
END:VCALENDAR