BEGIN:VCALENDAR
VERSION:2.0
PRODID:-//Bilbao Euskaraz - ECPv4.7.1//NONSGML v1.0//EN
CALSCALE:GREGORIAN
METHOD:PUBLISH
X-WR-CALNAME:Bilbao Euskaraz
X-ORIGINAL-URL:https://bilbaoeuskaraz.bilbao.eus
X-WR-CALDESC:Events for Bilbao Euskaraz
BEGIN:VEVENT
DTSTART;TZID=UTC+0:20251113T163000
DTEND;TZID=UTC+0:20251113T180000
DTSTAMP:20260422T163452
CREATED:20251029T094554Z
LAST-MODIFIED:20251029T094706Z
UID:56723-1763051400-1763056800@bilbaoeuskaraz.bilbao.eus
SUMMARY:Azenario\, koko\, jengibre eta txokolatezko bolatxoak tailerra
DESCRIPTION:Txaramela taldearekin \nKalderapeko kulturgunean (Txakur kalea 1\, Zazpikaleak) \n
URL:https://bilbaoeuskaraz.bilbao.eus/ekitaldia/taller-de-bolitas-de-zanahoria-coco-jengibre-y-chocolate/
CATEGORIES:Comida,Darabilbo
ATTACH;FMTTYPE=image/png:https://bilbaoeuskaraz.bilbao.eus/wp-content/uploads/2025/10/Tailerra_13NOV-1.png
END:VEVENT
END:VCALENDAR