BEGIN:VCALENDAR
VERSION:2.0
PRODID:-//Bilbao Euskaraz - ECPv4.7.1//NONSGML v1.0//EN
CALSCALE:GREGORIAN
METHOD:PUBLISH
X-WR-CALNAME:Bilbao Euskaraz
X-ORIGINAL-URL:https://bilbaoeuskaraz.bilbao.eus
X-WR-CALDESC:Events for Bilbao Euskaraz
BEGIN:VEVENT
DTSTART;TZID=UTC+0:20231217T183000
DTEND;TZID=UTC+0:20231217T213000
DTSTAMP:20260425T173129
CREATED:20231123T173833Z
LAST-MODIFIED:20231123T173833Z
UID:52443-1702837800-1702848600@bilbaoeuskaraz.bilbao.eus
SUMMARY:TANGOA
DESCRIPTION:Igande arratsaldeko milonga Garua elkartearekin \nSarrera librea \n
URL:https://bilbaoeuskaraz.bilbao.eus/ekitaldia/tangoa-22/
LOCATION:Bira Kulturgunea\, Erronda Kalea\, 2\, Bilbo
CATEGORIES:Bira,Dantza
END:VEVENT
END:VCALENDAR