BEGIN:VCALENDAR
VERSION:2.0
PRODID:-//Bilbao Euskaraz - ECPv4.7.1//NONSGML v1.0//EN
CALSCALE:GREGORIAN
METHOD:PUBLISH
X-WR-CALNAME:Bilbao Euskaraz
X-ORIGINAL-URL:https://bilbaoeuskaraz.bilbao.eus
X-WR-CALDESC:Events for Bilbao Euskaraz
BEGIN:VEVENT
DTSTART;TZID=UTC+0:20230213T161500
DTEND;TZID=UTC+0:20230213T170000
DTSTAMP:20260425T134747
CREATED:20230131T135338Z
LAST-MODIFIED:20230131T135354Z
UID:43562-1676304900-1676307600@bilbaoeuskaraz.bilbao.eus
SUMMARY:TXIKIGUNEA
DESCRIPTION:Haurrentzako dibertimendua euskaraz Mujika Eskolako gurasoek antolatuta \n
URL:https://bilbaoeuskaraz.bilbao.eus/ekitaldia/txikigunea-6/
LOCATION:Bira Kulturgunea\, Erronda Kalea\, 2\, Bilbo
CATEGORIES:Bira
END:VEVENT
END:VCALENDAR