BEGIN:VCALENDAR
VERSION:2.0
PRODID:-//Bilbao Euskaraz - ECPv4.7.1//NONSGML v1.0//EN
CALSCALE:GREGORIAN
METHOD:PUBLISH
X-WR-CALNAME:Bilbao Euskaraz
X-ORIGINAL-URL:https://bilbaoeuskaraz.bilbao.eus/es/
X-WR-CALDESC:Eventos para Bilbao Euskaraz
BEGIN:VEVENT
DTSTART;TZID=UTC+0:20240924T193000
DTEND;TZID=UTC+0:20240924T193000
DTSTAMP:20260424T100136
CREATED:20240903T082613Z
LAST-MODIFIED:20240903T082817Z
UID:54113-1727206200-1727206200@bilbaoeuskaraz.bilbao.eus
SUMMARY:EUSKARA BIHAR (I)
DESCRIPTION:Conferencia \nJon Sarasua. Debate. Primera sesión de las jornadas \nLORALDIA \n  \n
URL:https://bilbaoeuskaraz.bilbao.eus/es/ekitaldia/euskara-bihar-i/
LOCATION:Bira Kulturgunea\, Erronda Kalea\, 2\, Bilbo
CATEGORIES:Bira,Euskara,Literatura,loraldia
ATTACH;FMTTYPE=image/jpeg:https://bilbaoeuskaraz.bilbao.eus/wp-content/uploads/2024/09/EUSKARA-BIHAR.jpg
END:VEVENT
END:VCALENDAR