BEGIN:VCALENDAR
VERSION:2.0
PRODID:-//Bilbao Euskaraz - ECPv4.7.1//NONSGML v1.0//EN
CALSCALE:GREGORIAN
METHOD:PUBLISH
X-WR-CALNAME:Bilbao Euskaraz
X-ORIGINAL-URL:https://bilbaoeuskaraz.bilbao.eus/es/
X-WR-CALDESC:Eventos para Bilbao Euskaraz
BEGIN:VEVENT
DTSTART;TZID=UTC+0:20241004T183000
DTEND;TZID=UTC+0:20241004T183000
DTSTAMP:20260422T040644
CREATED:20240925T083137Z
LAST-MODIFIED:20240925T084638Z
UID:54160-1728066600-1728066600@bilbaoeuskaraz.bilbao.eus
SUMMARY:GANCHILLO
DESCRIPTION:Bolsa con la técnica de “esquina a esquina” (2ª sesión) taller con Arantza Ares. \n
URL:https://bilbaoeuskaraz.bilbao.eus/es/ekitaldia/kakorratza-lana-8/
LOCATION:Uribarriko Udaltegia\, Iturriondo plaza 3 (Zurbaranbarri)\, Bilbo
CATEGORIES:Darabilbo,Ikastaroak
ATTACH;FMTTYPE=image/jpeg:https://bilbaoeuskaraz.bilbao.eus/wp-content/uploads/2024/01/wool-742770_1280.jpg
END:VEVENT
END:VCALENDAR