BEGIN:VCALENDAR
VERSION:2.0
PRODID:-//Bilbao Euskaraz - ECPv4.7.1//NONSGML v1.0//EN
CALSCALE:GREGORIAN
METHOD:PUBLISH
X-WR-CALNAME:Bilbao Euskaraz
X-ORIGINAL-URL:https://bilbaoeuskaraz.bilbao.eus/es/
X-WR-CALDESC:Eventos para Bilbao Euskaraz
BEGIN:VEVENT
DTSTART;TZID=UTC+0:20241010T180000
DTEND;TZID=UTC+0:20241010T180000
DTSTAMP:20260421T171535
CREATED:20240925T083632Z
LAST-MODIFIED:20240925T084653Z
UID:54166-1728583200-1728583200@bilbaoeuskaraz.bilbao.eus
SUMMARY:FAMILIA SOTA
DESCRIPTION:Arte y mecenazgo\, \n\nVisita guiada al museo\n\n
URL:https://bilbaoeuskaraz.bilbao.eus/es/ekitaldia/sota-familia-3/
LOCATION:Bilboko Arte Ederren Museoa\, Museo Plaza\, 2\, Bilbo
CATEGORIES:Darabilbo,Museoak
ATTACH;FMTTYPE=image/png:https://bilbaoeuskaraz.bilbao.eus/wp-content/uploads/2024/06/Aurelio_Arteta_Retrato_Sir_Ramon_de_la_Sota-2048x1217-1.png
END:VEVENT
END:VCALENDAR