BEGIN:VCALENDAR
VERSION:2.0
PRODID:-//Bilbao Euskaraz - ECPv4.7.1//NONSGML v1.0//EN
CALSCALE:GREGORIAN
METHOD:PUBLISH
X-WR-CALNAME:Bilbao Euskaraz
X-ORIGINAL-URL:https://bilbaoeuskaraz.bilbao.eus/es/
X-WR-CALDESC:Eventos para Bilbao Euskaraz
BEGIN:VEVENT
DTSTART;TZID=UTC+0:20251113T143000
DTEND;TZID=UTC+0:20251113T163000
DTSTAMP:20260422T234412
CREATED:20251029T092213Z
LAST-MODIFIED:20251029T093345Z
UID:56717-1763044200-1763051400@bilbaoeuskaraz.bilbao.eus
SUMMARY:Arte público y vasco
DESCRIPTION:Visita guiada Museo Bellas Artes de Bilbao \nPlaza del Museo 2 \n
URL:https://bilbaoeuskaraz.bilbao.eus/es/ekitaldia/arte-publico-y-vasco/
CATEGORIES:Darabilbo,Museoak
ATTACH;FMTTYPE=image/png:https://bilbaoeuskaraz.bilbao.eus/wp-content/uploads/2025/10/Ataria-bat_13NOV.png
END:VEVENT
BEGIN:VEVENT
DTSTART;TZID=UTC+0:20251113T163000
DTEND;TZID=UTC+0:20251113T180000
DTSTAMP:20260422T234412
CREATED:20251029T093622Z
LAST-MODIFIED:20251029T094750Z
UID:56719-1763051400-1763056800@bilbaoeuskaraz.bilbao.eus
SUMMARY:Taller de Bolitas de zanahoria\, coco\, jengibre y chocolate
DESCRIPTION:Impartido por Txaramela \nEn el Euskaltegi AEK Matxintxu (Avenida Ramon y Cajal 8\, Deusto) \n
URL:https://bilbaoeuskaraz.bilbao.eus/es/ekitaldia/azenario-koko-jengibre-eta-txokolatezko-bolatxoak-tailerra/
CATEGORIES:Comida,Darabilbo
ATTACH;FMTTYPE=image/png:https://bilbaoeuskaraz.bilbao.eus/wp-content/uploads/2025/10/Tailerra_13NOV-1.png
END:VEVENT
END:VCALENDAR