BEGIN:VCALENDAR
VERSION:2.0
PRODID:-//Bilbao Euskaraz - ECPv4.7.1//NONSGML v1.0//EN
CALSCALE:GREGORIAN
METHOD:PUBLISH
X-WR-CALNAME:Bilbao Euskaraz
X-ORIGINAL-URL:https://bilbaoeuskaraz.bilbao.eus/es/
X-WR-CALDESC:Eventos para Bilbao Euskaraz
BEGIN:VEVENT
DTSTART;TZID=UTC+0:20251210T193000
DTEND;TZID=UTC+0:20251210T210000
DTSTAMP:20260423T090313
CREATED:20251209T102848Z
LAST-MODIFIED:20251209T102848Z
UID:56822-1765395000-1765400400@bilbaoeuskaraz.bilbao.eus
SUMMARY:Eguazten beltza. Cata de cerveza
DESCRIPTION:En Recalde\, de la mano de Mario Birretti. \nPara mayores de 18 años. \n
URL:https://bilbaoeuskaraz.bilbao.eus/es/ekitaldia/eguazten-beltza-cata-de-cerveza/
LOCATION:Zohardia Kultur Elkartea\, Esperanto kalea Z/G (BM ondoan)\, Bilbao\, Bizkaia\, 48002\, España
CATEGORIES:Darabilbo,janaria
ATTACH;FMTTYPE=image/png:https://bilbaoeuskaraz.bilbao.eus/wp-content/uploads/2025/12/Garagardo-dastaketa.png
END:VEVENT
END:VCALENDAR