BEGIN:VCALENDAR
VERSION:2.0
PRODID:-//Bilbao Euskaraz - ECPv4.7.1//NONSGML v1.0//EN
CALSCALE:GREGORIAN
METHOD:PUBLISH
X-WR-CALNAME:Bilbao Euskaraz
X-ORIGINAL-URL:https://bilbaoeuskaraz.bilbao.eus/es/
X-WR-CALDESC:Eventos para Bilbao Euskaraz
BEGIN:VEVENT
DTSTART;TZID=UTC+0:20241115T180000
DTEND;TZID=UTC+0:20241115T180000
DTSTAMP:20260425T111641
CREATED:20241031T124729Z
LAST-MODIFIED:20241031T140740Z
UID:54576-1731693600-1731693600@bilbaoeuskaraz.bilbao.eus
SUMMARY:Visita histórico-política al barrio de Recalde
DESCRIPTION:VISITA GUIADA\nIgor Ahedo (UPV) \nDesde la asociación Onki Xin \n
URL:https://bilbaoeuskaraz.bilbao.eus/es/ekitaldia/errekalde-auzoa-bisita-historiko-politikoa-2/
LOCATION:Leon de Urruñuela kalea 3\, Errekalde\, Leon de Urruñuela kalea 3\, Errekalde\, Bilbao\, Bizkaia\, 48011\, España
CATEGORIES:Darabilbo
ATTACH;FMTTYPE=image/jpeg:https://bilbaoeuskaraz.bilbao.eus/wp-content/uploads/2024/10/rekalde-2.jpg
END:VEVENT
END:VCALENDAR