BEGIN:VCALENDAR
VERSION:2.0
PRODID:-//Bilbao Euskaraz - ECPv4.7.1//NONSGML v1.0//EN
CALSCALE:GREGORIAN
METHOD:PUBLISH
X-WR-CALNAME:Bilbao Euskaraz
X-ORIGINAL-URL:https://bilbaoeuskaraz.bilbao.eus/es/
X-WR-CALDESC:Eventos para Bilbao Euskaraz
BEGIN:VEVENT
DTSTART;TZID=UTC+0:20250319T190000
DTEND;TZID=UTC+0:20250319T190000
DTSTAMP:20260424T191823
CREATED:20250228T125754Z
LAST-MODIFIED:20250228T125754Z
UID:55628-1742410800-1742410800@bilbaoeuskaraz.bilbao.eus
SUMMARY:FISIO NUKLEARRAREN AURKIKUNTZA
DESCRIPTION:Charla-coloquio. De la mano de Jose Ramon Etxebarria (Zientzia berbalagunak)\n19:00 Centro Municipal de Santutxu. Calle Del Tenor Fagoaga S/N \n
URL:https://bilbaoeuskaraz.bilbao.eus/es/ekitaldia/fisio-nuklearraren-aurkikuntza/
LOCATION:Santutxuko Udaltegia\, Fagoaga tenorearen kalea\, Bilbo
CATEGORIES:Darabilbo,Darabilbo,hitzaldia
END:VEVENT
END:VCALENDAR