BEGIN:VCALENDAR
VERSION:2.0
PRODID:-//Bilbao Euskaraz - ECPv4.7.1//NONSGML v1.0//EN
CALSCALE:GREGORIAN
METHOD:PUBLISH
X-WR-CALNAME:Bilbao Euskaraz
X-ORIGINAL-URL:https://bilbaoeuskaraz.bilbao.eus/es/
X-WR-CALDESC:Eventos para Bilbao Euskaraz
BEGIN:VEVENT
DTSTART;TZID=UTC+0:20240129T203000
DTEND;TZID=UTC+0:20240129T203000
DTSTAMP:20260425T010958
CREATED:20231228T104514Z
LAST-MODIFIED:20231228T104514Z
UID:52539-1706560200-1706560200@bilbaoeuskaraz.bilbao.eus
SUMMARY:SEISIUN
DESCRIPTION:Sesión abierta de jam-folk\, con el Colectivo CEOL. \n
URL:https://bilbaoeuskaraz.bilbao.eus/es/ekitaldia/seisiun-3/
LOCATION:Bira Kulturgunea\, Erronda Kalea\, 2\, Bilbo
CATEGORIES:Música
ATTACH;FMTTYPE=image/png:https://bilbaoeuskaraz.bilbao.eus/wp-content/uploads/2023/12/talde-argazkia.png
END:VEVENT
END:VCALENDAR