BEGIN:VCALENDAR
VERSION:2.0
PRODID:-//Bilbao Euskaraz - ECPv4.7.1//NONSGML v1.0//EN
CALSCALE:GREGORIAN
METHOD:PUBLISH
X-WR-CALNAME:Bilbao Euskaraz
X-ORIGINAL-URL:https://bilbaoeuskaraz.bilbao.eus/es/
X-WR-CALDESC:Eventos para Bilbao Euskaraz
BEGIN:VEVENT
DTSTART;TZID=UTC+0:20251112T100000
DTEND;TZID=UTC+0:20251112T230000
DTSTAMP:20260422T145316
CREATED:20251029T091420Z
LAST-MODIFIED:20251029T091631Z
UID:56705-1762941600-1762988400@bilbaoeuskaraz.bilbao.eus
SUMMARY:Taller de Bolitas de zanahoria\, coco\, jengibre y chocolate
DESCRIPTION:Impartido por Txaramela \n\nCentro Cultural Kalderapeko (Txakur kalea 1\, Casco Viejo)\n\n
URL:https://bilbaoeuskaraz.bilbao.eus/es/ekitaldia/taller-de-bolitas-de-zanahoria-coco-jengibre-y-chocolate/
CATEGORIES:Darabilbo
ATTACH;FMTTYPE=image/png:https://bilbaoeuskaraz.bilbao.eus/wp-content/uploads/2025/10/Tailerra_12NOV-1.png
END:VEVENT
END:VCALENDAR