BEGIN:VCALENDAR
VERSION:2.0
PRODID:-//Bilbao Euskaraz - ECPv4.7.1//NONSGML v1.0//EN
CALSCALE:GREGORIAN
METHOD:PUBLISH
X-WR-CALNAME:Bilbao Euskaraz
X-ORIGINAL-URL:https://bilbaoeuskaraz.bilbao.eus/es/
X-WR-CALDESC:Eventos para Bilbao Euskaraz
BEGIN:VEVENT
DTSTART;TZID=UTC+0:20250426T200000
DTEND;TZID=UTC+0:20250426T200000
DTSTAMP:20260426T023841
CREATED:20250324T112846Z
LAST-MODIFIED:20250324T112846Z
UID:55798-1745697600-1745697600@bilbaoeuskaraz.bilbao.eus
SUMMARY:Teatro SUPITUKI
DESCRIPTION:Teatro improvisado. Teniendo en cuenta las propuestas del público\, improvisarán historias.\nEntrada inversa\nEuskera \n
URL:https://bilbaoeuskaraz.bilbao.eus/es/ekitaldia/teatro-supituki/
LOCATION:Bira Kulturgunea\, Erronda Kalea\, 2\, Bilbo
CATEGORIES:Antzerkia,Bira,Euskara
END:VEVENT
END:VCALENDAR